BEGIN:VCALENDAR
VERSION:2.0
PRODID:-//Smoke &amp; Sear - BBQ Recipes, Tips, and Outdoor Cooking Inspiration - ECPv6.15.20//NONSGML v1.0//EN
CALSCALE:GREGORIAN
METHOD:PUBLISH
X-ORIGINAL-URL:https://www.smokeandsear.world
X-WR-CALDESC:Events for Smoke &amp; Sear - BBQ Recipes, Tips, and Outdoor Cooking Inspiration
REFRESH-INTERVAL;VALUE=DURATION:PT1H
X-Robots-Tag:noindex
X-PUBLISHED-TTL:PT1H
BEGIN:VTIMEZONE
TZID:Europe/London
BEGIN:DAYLIGHT
TZOFFSETFROM:+0000
TZOFFSETTO:+0100
TZNAME:BST
DTSTART:20250330T010000
END:DAYLIGHT
BEGIN:STANDARD
TZOFFSETFROM:+0100
TZOFFSETTO:+0000
TZNAME:GMT
DTSTART:20251026T010000
END:STANDARD
BEGIN:DAYLIGHT
TZOFFSETFROM:+0000
TZOFFSETTO:+0100
TZNAME:BST
DTSTART:20260329T010000
END:DAYLIGHT
BEGIN:STANDARD
TZOFFSETFROM:+0100
TZOFFSETTO:+0000
TZNAME:GMT
DTSTART:20261025T010000
END:STANDARD
BEGIN:DAYLIGHT
TZOFFSETFROM:+0000
TZOFFSETTO:+0100
TZNAME:BST
DTSTART:20270328T010000
END:DAYLIGHT
BEGIN:STANDARD
TZOFFSETFROM:+0100
TZOFFSETTO:+0000
TZNAME:GMT
DTSTART:20271031T010000
END:STANDARD
END:VTIMEZONE
BEGIN:VEVENT
DTSTART;VALUE=DATE:20260815
DTEND;VALUE=DATE:20260817
DTSTAMP:20260420T015542
CREATED:20251221T202542Z
LAST-MODIFIED:20251221T202542Z
UID:2941-1786752000-1786924799@www.smokeandsear.world
SUMMARY:Smoke and Fire Festival®
DESCRIPTION:Smoke and Fire Festival® 2026 isn’t just the UK’s No.1 live-fire food festival — it’s the full-throttle BBQ beast that’s back and celebrating its 10th anniversary. Taking over Maldon\, Essex on Saturday 15th – Sunday 16th August 2026\, this one’s a meat-lover’s dream turned all-out BBQ riot. We’re talking stacked line-ups of world-class pitmasters\, jaw-dropping demos\, fierce eating challenges\, sizzling competitions like the British Open Freestyle BBQ Championship®\, and live music that keeps the vibe blazing all weekend. You’ll find BBQ Alley packed with top-tier grill brands\, chilli challenges that’ll melt your face off\, and family-friendly fun in every smoky corner. It’s wild\, it’s flavour-packed\, and it’s definitely one for the calendar — especially for its big 10-year blowout.
URL:https://www.smokeandsear.world/event/smoke-and-fire-festival/
LOCATION:Promenade Park\, Park Drive\, Maldon\, CM9 5JQ\, United Kingdom
ATTACH;FMTTYPE=image/jpeg:https://www.smokeandsear.world/wp-content/uploads/2025/12/Smoke-and-Fire.jpg
END:VEVENT
END:VCALENDAR