BEGIN:VCALENDAR
VERSION:2.0
PRODID:-//Smoke &amp; Sear - BBQ Recipes, Tips, and Outdoor Cooking Inspiration - ECPv6.15.20//NONSGML v1.0//EN
CALSCALE:GREGORIAN
METHOD:PUBLISH
X-WR-CALNAME:Smoke &amp; Sear - BBQ Recipes, Tips, and Outdoor Cooking Inspiration
X-ORIGINAL-URL:https://www.smokeandsear.world
X-WR-CALDESC:Events for Smoke &amp; Sear - BBQ Recipes, Tips, and Outdoor Cooking Inspiration
REFRESH-INTERVAL;VALUE=DURATION:PT1H
X-Robots-Tag:noindex
X-PUBLISHED-TTL:PT1H
BEGIN:VTIMEZONE
TZID:Europe/London
BEGIN:DAYLIGHT
TZOFFSETFROM:+0000
TZOFFSETTO:+0100
TZNAME:BST
DTSTART:20250330T010000
END:DAYLIGHT
BEGIN:STANDARD
TZOFFSETFROM:+0100
TZOFFSETTO:+0000
TZNAME:GMT
DTSTART:20251026T010000
END:STANDARD
BEGIN:DAYLIGHT
TZOFFSETFROM:+0000
TZOFFSETTO:+0100
TZNAME:BST
DTSTART:20260329T010000
END:DAYLIGHT
BEGIN:STANDARD
TZOFFSETFROM:+0100
TZOFFSETTO:+0000
TZNAME:GMT
DTSTART:20261025T010000
END:STANDARD
BEGIN:DAYLIGHT
TZOFFSETFROM:+0000
TZOFFSETTO:+0100
TZNAME:BST
DTSTART:20270328T010000
END:DAYLIGHT
BEGIN:STANDARD
TZOFFSETFROM:+0100
TZOFFSETTO:+0000
TZNAME:GMT
DTSTART:20271031T010000
END:STANDARD
END:VTIMEZONE
BEGIN:VEVENT
DTSTART;VALUE=DATE:20260612
DTEND;VALUE=DATE:20260615
DTSTAMP:20260420T065948
CREATED:20251221T165829Z
LAST-MODIFIED:20251221T165930Z
UID:2919-1781222400-1781481599@www.smokeandsear.world
SUMMARY:Meatopia - Glasgow
DESCRIPTION:After blowing Glasgow’s mind (and tastebuds) in 2025\, Meatopia On-Fire is back for 2026 — bringing the smoke\, the flavour\, and the fire-powered chaos to SWG3 from Friday 12th to Sunday 14th June. If you missed last year’s smoky scenes pouring out of Victorian warehouses while world-class chefs slung dishes over live flames… don’t make that mistake twice. This is Glasgow’s only proper live-fire food festival – part food heaven\, part music-fuelled carnage. Think 40+ chefs from across the globe\, slinging one dish each\, cooked low ‘n slow or hot ‘n fast over wood or charcoal only. Add banging DJ sets\, roaming brass bands\, killer cocktails\, and a crowd that just gets it. If you love BBQ\, fire-cooked food\, good drink and big vibes — Glasgow’s Meatopia is calling.
URL:https://www.smokeandsear.world/event/meatopia-glasgow/
LOCATION:SWG3 Glasgow\, 100 Eastvale Place\, Glasgow\, G3 8QG\, United Kingdom
ATTACH;FMTTYPE=image/jpeg:https://www.smokeandsear.world/wp-content/uploads/2025/12/Meatopia-Glasgow.jpg
ORGANIZER;CN="Meatopia":MAILTO:info@meatopia.co.uk
END:VEVENT
BEGIN:VEVENT
DTSTART;VALUE=DATE:20260514
DTEND;VALUE=DATE:20260518
DTSTAMP:20260420T065948
CREATED:20251221T193017Z
LAST-MODIFIED:20251221T193017Z
UID:2928-1778716800-1779062399@www.smokeandsear.world
SUMMARY:Pub in the Park Marlow
DESCRIPTION:Pub in the Park Marlow is back from 14th–17th May 2026\, and it’s shaping up to be one for the books – not just because of the banging food\, live music\, and festival feels\, but because it’s also the 100th anniversary of Higginson Park. That’s right\, a century of history is getting the ultimate birthday bash – complete with top chefs slinging flavour\, street food that’ll knock your socks off\, and a stacked line-up of artists bringing the soundtrack to your sun-soaked weekend. Whether you’re there for the eats\, the beats\, or just a few cheeky drinks in good company\, Pub in the Park serves up the lot with extra helpings of joy. Get your tickets early – it always sells out\, and 2026 is going to be massive.
URL:https://www.smokeandsear.world/event/pub-in-the-park-marlow/
LOCATION:Higginson Park\, Pound Lane\, Marlow\, Buckinghamshire\, SL7 2AE\, United Kingdom
ATTACH;FMTTYPE=image/jpeg:https://www.smokeandsear.world/wp-content/uploads/2025/12/Adam-Purnell-firepit-1024x683-1.jpg
ORGANIZER;CN="Pub in the Park":MAILTO:info@pubintheparkuk.com
END:VEVENT
BEGIN:VEVENT
DTSTART;TZID=Europe/London:20260503T110000
DTEND;TZID=Europe/London:20260503T180000
DTSTAMP:20260420T065948
CREATED:20260207T114458Z
LAST-MODIFIED:20260207T114458Z
UID:2983-1777806000-1777831200@www.smokeandsear.world
SUMMARY:Country & ’Cue Festival 2026
DESCRIPTION:Yee-haw meets low ’n slow at the Country & ’Cue Festival\, landing on Sunday 3rd May 2026 at Dinton Pastures Country Park — and this one’s built for the whole crew. Think live country tunes\, proper British & American BBQ\, and a day packed with hands-on fun. The music stage is hosted by Southern Roots Radio with line dancing for anyone brave enough to give it a go\, while the Smoke Pit BBQ Stage is hosted by Marcus Bawdon\, bringing top UK pitmasters and fire-fuelled know-how. Add axe throwing\, archery\, hot wing challenges\, classic cars\, kids’ rides (free!)\, a rodeo bull\, craft stalls and street food galore — and you’ve got a cracking family day out with big flavour and bigger vibes. Pre-booking is required\, so get it locked in.
URL:https://www.smokeandsear.world/event/country-cue-festival-2026/
LOCATION:Dinton Pastures Country Park\, Davis St\, Hurst\, Wokingham\, RG10 0TH\, United Kingdom
ATTACH;FMTTYPE=image/jpeg:https://www.smokeandsear.world/wp-content/uploads/2026/02/Country-Cue.jpg
ORGANIZER;CN="JL Events":MAILTO:jlevents.info@gmail.com
END:VEVENT
BEGIN:VEVENT
DTSTART;VALUE=DATE:20260502
DTEND;VALUE=DATE:20260504
DTSTAMP:20260420T065948
CREATED:20251221T201300Z
LAST-MODIFIED:20251221T201300Z
UID:2937-1777680000-1777852799@www.smokeandsear.world
SUMMARY:Embers Fire Festival
DESCRIPTION:Set in the stunning Ironbridge Gorge\, Embers Fire Festival 2026 is shaping up to be an absolute scorcher. Taking place on 2nd & 3rd May at Dale End Park in Shropshire\, this one’s brought to life by Embers Café Ironbridge and BBQ legend The Shropshire Lad (Adam Purnell) – so you already know it’s gonna bang. Expect full-throttle flavour\, live-fire cooking demos from top-tier pitmasters\, mouth-watering vendors slinging smoky goodness\, and a proper eclectic soundtrack to keep the vibes high. It’s BBQ meets beats\, with family-friendly activities and a solid community buzz running through it all. Whether you’re there to eat\, learn\, chill\, or just get inspired by the flames\, Embers has something for everyone – and it’s definitely worth the trip.
URL:https://www.smokeandsear.world/event/embers-fire-festival/
LOCATION:Dale End Park\, 8 The Courtyard\, Ironbridge\, Coalbrookdale\, Telford\, TF8 7EG\, United Kingdom
ATTACH;FMTTYPE=image/jpeg:https://www.smokeandsear.world/wp-content/uploads/2025/12/embersfirefestival-ticket-main-image-optimised.jpg
END:VEVENT
BEGIN:VEVENT
DTSTART;VALUE=DATE:20260502
DTEND;VALUE=DATE:20260504
DTSTAMP:20260420T065948
CREATED:20251019T134640Z
LAST-MODIFIED:20251019T134640Z
UID:2751-1777680000-1777852799@www.smokeandsear.world
SUMMARY:Fields to Fork Festival
DESCRIPTION:Fields to Fork Festival is a two-day celebration of British food\, fire\, and farming\, set on a working farm just outside Manchester. Running 2–3 May 2026\, it brings together live fire cooking demos\, top chefs\, local produce\, street food\, live music\, and a proper countryside vibe. Family-friendly\, dog-friendly\, and packed with flavour\, it’s a cracking weekend for anyone who loves cooking outdoors or just wants to eat well in a field. Head to their official site for full details and tickets.
URL:https://www.smokeandsear.world/event/fields-to-fork-festival/
LOCATION:Whitebottom Farm\, Whitebottom Farm Compstall\, Stockport\, SK6 5JQ\, United Kingdom
ATTACH;FMTTYPE=image/png:https://www.smokeandsear.world/wp-content/uploads/2025/10/plrc2if4v7q6lsyoaefc.png
END:VEVENT
BEGIN:VEVENT
DTSTART;VALUE=DATE:20260425
DTEND;VALUE=DATE:20260426
DTSTAMP:20260420T065948
CREATED:20251024T152152Z
LAST-MODIFIED:20251024T152331Z
UID:2778-1777075200-1777161599@www.smokeandsear.world
SUMMARY:The Big BBQ Community Cookout
DESCRIPTION:I went to the very first Big BBQ Community Cookout last year – and honestly\, it was bloody epic. Super relaxed\, food flying about all day and night\, and the kind of crowd where you meet new mates and bump into old faces you haven’t seen in yonks. It’s held at Millington Hall Farm in Cheshire and has this proper grassroots\, come-as-you-are vibe. No egos\, just fire\, flavour\, and folk who love cooking outdoors. Bring your own setup or borrow one on the day\, hang out\, eat loads\, and soak up the best of the UK BBQ scene. I’m buzzing to go back in 2026 – this one’s locked in.
URL:https://www.smokeandsear.world/event/the-big-bbq-community-cookout/
LOCATION:Millington Hall Farm\, Millington Hall Farm\, Altrincham\, WA14 3RN\, United Kingdom
ATTACH;FMTTYPE=image/jpeg:https://www.smokeandsear.world/wp-content/uploads/2025/10/bigcookout_highlights_gemmaparker-35-1.jpg
ORGANIZER;CN="Millington Hall Farm":MAILTO:bookings@millingtonhall.com
END:VEVENT
BEGIN:VEVENT
DTSTART;TZID=Europe/London:20260329T110000
DTEND;TZID=Europe/London:20260329T160000
DTSTAMP:20260420T065948
CREATED:20260201T182054Z
LAST-MODIFIED:20260201T182054Z
UID:2969-1774782000-1774800000@www.smokeandsear.world
SUMMARY:BBQ Hub Launch Day 2026
DESCRIPTION:The BBQ Hub Launch Day is back for its second round of sizzle on Sunday 29th March 2026\, and if last year was anything to go by\, this one’s gonna be even bigger\, better\, and bolder. From 11am to 3pm at The BBQ Hub in Tonbridge\, Kent\, it’s a free-to-attend BBQ bash loaded with fire-cooked food\, good vibes\, and a proper welcoming community. Whether you’re just starting your outdoor cooking journey or you’re a full-blown fire geek\, this event is all about sharing the love for live fire\, gear\, flavour\, and family-friendly fun. Expect tasty demos\, top brands\, expert advice\, and a buzzing showroom packed with fresh kit for 2026. The BBQ Hub team know how to host a proper gathering – so swing by\, soak up the smoke\, and meet the people who make BBQ dreams happen.
URL:https://www.smokeandsear.world/event/bbq-hub-launch-day-2026/
LOCATION:The BBQ Hub\, Unit 7 Orchard Business Centre\, Sanderson Way\, Tonbridge\, TN9 1QG\, United Kingdom
ATTACH;FMTTYPE=image/jpeg:https://www.smokeandsear.world/wp-content/uploads/2026/02/BBQ-Hub-Launch-Day.jpg
ORGANIZER;CN="Bens Kitchen":MAILTO:thebbqhubtn9@gmail.com
END:VEVENT
BEGIN:VEVENT
DTSTART;TZID=Europe/London:20260328T100000
DTEND;TZID=Europe/London:20260328T140000
DTSTAMP:20260420T065948
CREATED:20260202T202506Z
LAST-MODIFIED:20260202T202546Z
UID:2978-1774692000-1774706400@www.smokeandsear.world
SUMMARY:Alfresco Chapel - Season Open Day 2026
DESCRIPTION:Alfresco Chapel BBQ Centre is firing up the season in serious style with their Season Open Day 2026 on Saturday 28th March from 10am–2pm — and it’s free to attend\, so there’s no excuse not to swing by. Hosted in their iconic old Methodist chapel in Adlington\, this place is more than a shop — it’s a BBQ sanctuary. Expect live-fire demos\, free food\, community-led cooks\, pizza & tacos tasters\, and a butchery masterclass from Gav at Yorkshire Craft Butchery. Special guests include Jon’s BBQ and Woodfired Feaster\, with an extra flame-fuelled name still to be officially revealed. There’ll be exclusive product launches\, shop expansion news\, giveaways\, and refreshments from Hopworks to keep your whistle wet. And yep — Yeti raffles are back. This one’s not just a shop day\, it’s a full-on BBQ community gathering. Be there.
URL:https://www.smokeandsear.world/event/alfresco-chapel-season-open-day-2026/
LOCATION:Alfresco Chapel BBQ Centre\, The Old Methodist Church\, 21 Market St\, Adlington\, PR7 4HE\, United Kingdom
ATTACH;FMTTYPE=image/png:https://www.smokeandsear.world/wp-content/uploads/2026/02/Alfresco-Chapel-BBQ.png
ORGANIZER;CN="Alfresco Chapel BBQ Centre":MAILTO:sales@alfrescochapel.co.uk
END:VEVENT
BEGIN:VEVENT
DTSTART;TZID=Europe/London:20260321T190000
DTEND;TZID=Europe/London:20260321T220000
DTSTAMP:20260420T065948
CREATED:20260125T120603Z
LAST-MODIFIED:20260125T120603Z
UID:2958-1774119600-1774130400@www.smokeandsear.world
SUMMARY:Altons BBQ World - Launch Night Event 2026
DESCRIPTION:Altons BBQ World is firing up Launch Night 2026 on Saturday 21st March\, and if you’re even half BBQ-obsessed\, this is one you don’t want to miss. It’s more than just a product launch — it’s a full-blown night of food\, fire and festive vibes. From 7–10pm\, the Wickford showroom transforms into BBQ central\, packed with new grills\, gadgets\, and the freshest brands for 2026. You’ll get food and drink from top local vendors\, banging tunes from DJ Jay Shep\, a live casino setup\, giveaways\, spin-to-win madness\, and a proper community buzz. It’s £20 a ticket\, and it always sells out — so don’t hang about. You might just walk out with a full belly and a new bit of kit.
URL:https://www.smokeandsear.world/event/altons-bbq-world-launch-night-event-2026/
LOCATION:Altons BBQ World\, Altons Garden Centre\, Wickford\, Essex\, SS12 9JG\, United Kingdom
ATTACH;FMTTYPE=image/webp:https://www.smokeandsear.world/wp-content/uploads/2026/01/Altons-BBQ-Launch-Night.webp
ORGANIZER;CN="Altons BBQ":MAILTO:bbqs@altongardencentre.co.uk
END:VEVENT
END:VCALENDAR